BEGIN:VCALENDAR
VERSION:2.0
CALSCALE:GREGORIAN
METHOD:PUBLISH
BEGIN:VEVENT
SUMMARY:ProConcept Salaires - Procédure de fin d&#039;année 2025
DTSTART;VALUE=DATE:20260106
DTEND;VALUE=DATE:20260107
URL:https://support.primetechnologies.ch/fr/news/posts/107
END:VEVENT
BEGIN:VEVENT
SUMMARY:MCH2 BE : Changements de taux d&#039;amortissements
DTSTART;VALUE=DATE:20250415
DTEND;VALUE=DATE:20250416
URL:https://support.primetechnologies.ch/fr/news/posts/92
END:VEVENT
BEGIN:VEVENT
SUMMARY:Nouveau barème impôt à la source Vaud 2025
DTSTART;VALUE=DATE:20250415
DTEND;VALUE=DATE:20250416
URL:https://support.primetechnologies.ch/fr/news/posts/91
END:VEVENT
BEGIN:VEVENT
SUMMARY:Enquête ESS Swissdec 5
DTSTART;VALUE=DATE:20250210
DTEND;VALUE=DATE:20250211
URL:https://support.primetechnologies.ch/fr/news/posts/87
END:VEVENT
BEGIN:VEVENT
SUMMARY:ProConcept Salaires - Procédure de fin d&#039;année 2024
DTSTART;VALUE=DATE:20241218
DTEND;VALUE=DATE:20241219
URL:https://support.primetechnologies.ch/fr/news/posts/84
END:VEVENT
BEGIN:VEVENT
SUMMARY:Nouveautés PCE 11.4 Salaires
DTSTART;VALUE=DATE:20241015
DTEND;VALUE=DATE:20241016
URL:https://support.primetechnologies.ch/fr/news/posts/78
END:VEVENT
BEGIN:VEVENT
SUMMARY:Nouveautés PCE 11.4
DTSTART;VALUE=DATE:20240620
DTEND;VALUE=DATE:20240621
URL:https://support.primetechnologies.ch/fr/news/posts/71
END:VEVENT
BEGIN:VEVENT
SUMMARY:Circulaire ACI - Nouveaux barèmes de l&#039;impôt à la source VD 2024
DTSTART;VALUE=DATE:20240215
DTEND;VALUE=DATE:20240216
URL:https://support.primetechnologies.ch/fr/news/posts/66
END:VEVENT
BEGIN:VEVENT
SUMMARY:Swissdec - Liste AVS
DTSTART;VALUE=DATE:20231220
DTEND;VALUE=DATE:20231221
URL:https://support.primetechnologies.ch/fr/news/posts/63
END:VEVENT
BEGIN:VEVENT
SUMMARY:Salaires - Procédure de fin d&#039;année 2023
DTSTART;VALUE=DATE:20231211
DTEND;VALUE=DATE:20231212
URL:https://support.primetechnologies.ch/fr/news/posts/61
END:VEVENT
BEGIN:VEVENT
SUMMARY:Salaires - Procédure de fin d&#039;année 2022
DTSTART;VALUE=DATE:20221019
DTEND;VALUE=DATE:20221020
URL:https://support.primetechnologies.ch/fr/news/posts/47
END:VEVENT
BEGIN:VEVENT
SUMMARY:ProConcept Web - premiers pas
DTSTART;VALUE=DATE:20201016
DTEND;VALUE=DATE:20201017
URL:https://support.primetechnologies.ch/fr/news/posts/40
END:VEVENT
BEGIN:VEVENT
SUMMARY:Chômage partiel - RHT - Covid-19
DTSTART;VALUE=DATE:20200326
DTEND;VALUE=DATE:20200327
URL:https://support.primetechnologies.ch/fr/news/posts/34
END:VEVENT
BEGIN:VEVENT
SUMMARY:Nouveautés ProConcept ERP Version 11.3
DTSTART;VALUE=DATE:20200211
DTEND;VALUE=DATE:20200212
URL:https://support.primetechnologies.ch/fr/news/posts/28
END:VEVENT
BEGIN:VEVENT
SUMMARY:Nouveautés ProConcept ERP Version 11.2
DTSTART;VALUE=DATE:20200211
DTEND;VALUE=DATE:20200212
URL:https://support.primetechnologies.ch/fr/news/posts/27
END:VEVENT
BEGIN:VEVENT
SUMMARY:ProConcept Version 11.3 - Ressources humaines et Salaires
DTSTART;VALUE=DATE:20191124
DTEND;VALUE=DATE:20191125
URL:https://support.primetechnologies.ch/fr/news/posts/8
END:VEVENT
BEGIN:VEVENT
SUMMARY:Refacturation des petits montants dus par les clients
DTSTART;VALUE=DATE:20191103
DTEND;VALUE=DATE:20191104
URL:https://support.primetechnologies.ch/fr/news/posts/9
END:VEVENT
BEGIN:VEVENT
SUMMARY:Modification du taux de cotisation AVS au 1er janvier 2020
DTSTART;VALUE=DATE:20191023
DTEND;VALUE=DATE:20191024
URL:https://support.primetechnologies.ch/fr/news/posts/23
END:VEVENT
END:VCALENDAR
