BEGIN:VCALENDAR
VERSION:2.0
CALSCALE:GREGORIAN
METHOD:PUBLISH
BEGIN:VEVENT
SUMMARY:Nouvelle taxe &quot;Solidarité des coûts de renforcement&quot;
DTSTART;VALUE=DATE:20251009
DTEND;VALUE=DATE:20251010
URL:https://support.primetechnologies.ch/en-US/news/posts/102
END:VEVENT
BEGIN:VEVENT
SUMMARY:Nouveautés innosolv Mantelerlass - automne 2025
DTSTART;VALUE=DATE:20250908
DTEND;VALUE=DATE:20250909
URL:https://support.primetechnologies.ch/en-US/news/posts/101
END:VEVENT
BEGIN:VEVENT
SUMMARY:Communautés énergétiques avec innosolvenergy
DTSTART;VALUE=DATE:20250618
DTEND;VALUE=DATE:20250619
URL:https://support.primetechnologies.ch/en-US/news/posts/96
END:VEVENT
BEGIN:VEVENT
SUMMARY:Nouveautés innosolv Mantelerlass - Printemps 2025
DTSTART;VALUE=DATE:20250501
DTEND;VALUE=DATE:20250502
URL:https://support.primetechnologies.ch/en-US/news/posts/93
END:VEVENT
BEGIN:VEVENT
SUMMARY:Achat de compteur par traitement de masse
DTSTART;VALUE=DATE:20250206
DTEND;VALUE=DATE:20250207
URL:https://support.primetechnologies.ch/en-US/news/posts/85
END:VEVENT
BEGIN:VEVENT
SUMMARY:Dashboard Innosolv - Déclaration OFEN
DTSTART;VALUE=DATE:20250123
DTEND;VALUE=DATE:20250124
URL:https://support.primetechnologies.ch/en-US/news/posts/86
END:VEVENT
BEGIN:VEVENT
SUMMARY:Prix de marché de référence OFEN
DTSTART;VALUE=DATE:20241122
DTEND;VALUE=DATE:20241123
URL:https://support.primetechnologies.ch/en-US/news/posts/82
END:VEVENT
BEGIN:VEVENT
SUMMARY:Annonces Pronovo
DTSTART;VALUE=DATE:20241001
DTEND;VALUE=DATE:20241002
URL:https://support.primetechnologies.ch/en-US/news/posts/77
END:VEVENT
BEGIN:VEVENT
SUMMARY:CEL / RCP / CA avec les Séries Chronologiques dans innosolvenergy
DTSTART;VALUE=DATE:20240724
DTEND;VALUE=DATE:20240725
URL:https://support.primetechnologies.ch/en-US/news/posts/74
END:VEVENT
BEGIN:VEVENT
SUMMARY:swisseldex AUM - Notifications de déménagements
DTSTART;VALUE=DATE:20240521
DTEND;VALUE=DATE:20240522
URL:https://support.primetechnologies.ch/en-US/news/posts/69
END:VEVENT
BEGIN:VEVENT
SUMMARY:Données liées aux points de mesure
DTSTART;VALUE=DATE:20240305
DTEND;VALUE=DATE:20240306
URL:https://support.primetechnologies.ch/en-US/news/posts/67
END:VEVENT
BEGIN:VEVENT
SUMMARY:Adhésions à l&#039;e-bill
DTSTART;VALUE=DATE:20231017
DTEND;VALUE=DATE:20231018
URL:https://support.primetechnologies.ch/en-US/news/posts/57
END:VEVENT
BEGIN:VEVENT
SUMMARY:Changement TVA avec Pro-rata
DTSTART;VALUE=DATE:20230921
DTEND;VALUE=DATE:20230922
URL:https://support.primetechnologies.ch/en-US/news/posts/56
END:VEVENT
BEGIN:VEVENT
SUMMARY:OSTRAL
DTSTART;VALUE=DATE:20221207
DTEND;VALUE=DATE:20221208
URL:https://support.primetechnologies.ch/en-US/news/posts/49
END:VEVENT
BEGIN:VEVENT
SUMMARY:OIC
DTSTART;VALUE=DATE:20221114
DTEND;VALUE=DATE:20221115
URL:https://support.primetechnologies.ch/en-US/news/posts/48
END:VEVENT
BEGIN:VEVENT
SUMMARY:Changement de prix au 31.12
DTSTART;VALUE=DATE:20220927
DTEND;VALUE=DATE:20220928
URL:https://support.primetechnologies.ch/en-US/news/posts/46
END:VEVENT
BEGIN:VEVENT
SUMMARY:Nouveau module &quot;Connecteur HES&quot; pour les séries Chronologiques is-e
DTSTART;VALUE=DATE:20201113
DTEND;VALUE=DATE:20201114
URL:https://support.primetechnologies.ch/en-US/news/posts/41
END:VEVENT
BEGIN:VEVENT
SUMMARY:Estimation des relevés - Coronavirus
DTSTART;VALUE=DATE:20200323
DTEND;VALUE=DATE:20200324
URL:https://support.primetechnologies.ch/en-US/news/posts/33
END:VEVENT
BEGIN:VEVENT
SUMMARY:Facturation taxe des chiens
DTSTART;VALUE=DATE:20200217
DTEND;VALUE=DATE:20200218
URL:https://support.primetechnologies.ch/en-US/news/posts/29
END:VEVENT
BEGIN:VEVENT
SUMMARY:Un nouveau module pour vous: «Installations de production»
DTSTART;VALUE=DATE:20191215
DTEND;VALUE=DATE:20191216
URL:https://support.primetechnologies.ch/en-US/news/posts/4
END:VEVENT
BEGIN:VEVENT
SUMMARY:Dès automne, les relevés via l&#039;application mobile is-e est disponible, y compris avec la tête de lecture optique / radio
DTSTART;VALUE=DATE:20191022
DTEND;VALUE=DATE:20191023
URL:https://support.primetechnologies.ch/en-US/news/posts/16
END:VEVENT
BEGIN:VEVENT
SUMMARY:is-e Mobile Light - relevés et changements de compteurs
DTSTART;VALUE=DATE:20190813
DTEND;VALUE=DATE:20190814
URL:https://support.primetechnologies.ch/en-US/news/posts/18
END:VEVENT
BEGIN:VEVENT
SUMMARY:Double écran ou double onglet
DTSTART;VALUE=DATE:20190101
DTEND;VALUE=DATE:20190102
URL:https://support.primetechnologies.ch/en-US/news/posts/10
END:VEVENT
END:VCALENDAR
